BEGIN:VCALENDAR
VERSION:2.0
PRODID:-//Loved To Worship - ECPv6.15.20//NONSGML v1.0//EN
CALSCALE:GREGORIAN
METHOD:PUBLISH
X-WR-CALNAME:Loved To Worship
X-ORIGINAL-URL:https://lovedtoworship.co.uk
X-WR-CALDESC:Events for Loved To Worship
REFRESH-INTERVAL;VALUE=DURATION:PT1H
X-Robots-Tag:noindex
X-PUBLISHED-TTL:PT1H
BEGIN:VTIMEZONE
TZID:UTC
BEGIN:STANDARD
TZOFFSETFROM:+0000
TZOFFSETTO:+0000
TZNAME:UTC
DTSTART:20250101T000000
END:STANDARD
END:VTIMEZONE
BEGIN:VEVENT
DTSTART;TZID=UTC:20260905T180000
DTEND;TZID=UTC:20260905T213000
DTSTAMP:20260420T062017
CREATED:20251002T145358Z
LAST-MODIFIED:20260414T101733Z
UID:3733-1788631200-1788643800@lovedtoworship.co.uk
SUMMARY:Loved To Worship - 5th September 2026 - Relentless Church\, Warrington
DESCRIPTION:A FREE night of Worship lead by a collective of Worshippers from locations across the UK. An opportunity to re-set\, focus on God and worship Him for who He is! Worship is ALL about God and this night will be an evening with no agenda\, but to Worship.\n\nLoved To Worship is a series of events uniting Churches across the country in ONE VOICE in worship. This is a FREE and independent event and will be hosted at Relentless Church\, Thewlis St\, Warrington WA5 1AJ.. It is an evening with no set agenda but simply to worship together regardless of denomination\, age group of area where you are from. If you are hungry for more\, we encourage you to come.\n\nGod is at work and we have seen people encounter Jesus through miracles\, signs and wonders and we have seen God in healings\, salvation and people have seen breakthrough and we would LOVE you to be there with us as we continue to go deeper\, expect more\, and worship our living and amazing God.\nThere will be team on the entrance to the venue on the night to guide you in – there is a car park with plenty of space.\n\nPlease note\, you do not need a ticket for this event\, just turn up\, bring friends\, bring family and come and worship our powerful\, living and loving God!
URL:https://lovedtoworship.co.uk/event/loved-to-worship-5th-september-2026-venue-tbd/
LOCATION:Saint Helens
CATEGORIES:worship
ATTACH;FMTTYPE=image/jpeg:https://lovedtoworship.co.uk/wp-content/uploads/2023/11/44628864_715281618807295_9201806439125876736_n.jpeg
ORGANIZER;CN="Dan Parr":MAILTO:nicki@jarvisclub.com
END:VEVENT
BEGIN:VEVENT
DTSTART;TZID=UTC:20261003T180000
DTEND;TZID=UTC:20261003T213000
DTSTAMP:20260420T062017
CREATED:20251002T145456Z
LAST-MODIFIED:20260414T101605Z
UID:3735-1791050400-1791063000@lovedtoworship.co.uk
SUMMARY:Loved To Worship - 3rd October 2026 - St Marks Church\, Haydock
DESCRIPTION:A FREE night of Worship lead by a collective of Worshippers from locations across the UK. An opportunity to re-set\, focus on God and worship Him for who He is! Worship is ALL about God and this night will be an evening with no agenda\, but to Worship.\n\nLoved To Worship is a series of events uniting Churches across the country in ONE VOICE in worship. This is a FREE and independent event and will be hosted at St Marks Church\, W End Rd\, Haydock\, Saint Helens WA11 0AX.. It is an evening with no set agenda but simply to worship together regardless of denomination\, age group of area where you are from. If you are hungry for more\, we encourage you to come.\n\nGod is at work and we have seen people encounter Jesus through miracles\, signs and wonders and we have seen God in healings\, salvation and people have seen breakthrough and we would LOVE you to be there with us as we continue to go deeper\, expect more\, and worship our living and amazing God.\nThere will be team on the entrance to the venue on the night to guide you in – there is a car park with plenty of space.\n\nPlease note\, you do not need a ticket for this event\, just turn up\, bring friends\, bring family and come and worship our powerful\, living and loving God!
URL:https://lovedtoworship.co.uk/event/loved-to-worship-3rd-october-2026-venue-tbd/
LOCATION:Saint Helens
CATEGORIES:worship
ATTACH;FMTTYPE=image/jpeg:https://lovedtoworship.co.uk/wp-content/uploads/2023/11/cropped-44938144_718685831800207_2121899983811641344_n.jpeg
ORGANIZER;CN="Dan Parr":MAILTO:nicki@jarvisclub.com
END:VEVENT
BEGIN:VEVENT
DTSTART;TZID=UTC:20261107T180000
DTEND;TZID=UTC:20261107T210000
DTSTAMP:20260420T062017
CREATED:20260414T102131Z
LAST-MODIFIED:20260414T102131Z
UID:3785-1794074400-1794085200@lovedtoworship.co.uk
SUMMARY:Loved to Worship - 7th November 2026 - CLC\, St Helens
DESCRIPTION:A FREE night of Worship lead by a collective of Worshippers from locations across the UK. An opportunity to re-set\, focus on God and worship Him for who He is! Worship is ALL about God and this night will be an evening with no agenda\, but to Worship.\n\nLoved To Worship is a series of events uniting Churches across the country in ONE VOICE in worship. This is a FREE and independent event and will be hosted at CLC\, Atherton St\, St Helens\, Saint Helens WA10 2DT.. It is an evening with no set agenda but simply to worship together regardless of denomination\, age group of area where you are from. If you are hungry for more\, we encourage you to come.\n\nGod is at work and we have seen people encounter Jesus through miracles\, signs and wonders and we have seen God in healings\, salvation and people have seen breakthrough and we would LOVE you to be there with us as we continue to go deeper\, expect more\, and worship our living and amazing God.\nThere will be team on the entrance to the venue on the night to guide you in – there is a car park with plenty of space.\n\nPlease note\, you do not need a ticket for this event\, just turn up\, bring friends\, bring family and come and worship our powerful\, living and loving God!
URL:https://lovedtoworship.co.uk/event/loved-to-worship-7th-november-2026-clc-st-helens/
LOCATION:CLC\, St. Helens\, Atherton St\, St Helens\, Saint Helens\, WA10 2DT\, United Kingdom
CATEGORIES:worship
ATTACH;FMTTYPE=image/jpeg:https://lovedtoworship.co.uk/wp-content/uploads/2023/11/44897447_718686465133477_1198319347580272640_n.jpeg
ORGANIZER;CN="Dan Parr":MAILTO:nicki@jarvisclub.com
END:VEVENT
BEGIN:VEVENT
DTSTART;TZID=UTC:20261205T180000
DTEND;TZID=UTC:20261205T210000
DTSTAMP:20260420T062017
CREATED:20260414T102338Z
LAST-MODIFIED:20260414T102357Z
UID:3787-1796493600-1796504400@lovedtoworship.co.uk
SUMMARY:Loved to Worship - 5th December 2026 - Lighthouse\, Liverpool
DESCRIPTION:A FREE night of Worship lead by a collective of Worshippers from locations across the UK. An opportunity to re-set\, focus on God and worship Him for who He is! Worship is ALL about God and this night will be an evening with no agenda\, but to Worship.\n\nLoved To Worship is a series of events uniting Churches across the country in ONE VOICE in worship. This is a FREE and independent event and will be hosted at Lighthouse\, Oakfield Rd\, Liverpool L4 0UF.. It is an evening with no set agenda but simply to worship together regardless of denomination\, age group of area where you are from. If you are hungry for more\, we encourage you to come.\n\nGod is at work and we have seen people encounter Jesus through miracles\, signs and wonders and we have seen God in healings\, salvation and people have seen breakthrough and we would LOVE you to be there with us as we continue to go deeper\, expect more\, and worship our living and amazing God.\nThere will be team on the entrance to the venue on the night to guide you in – there is a car park with plenty of space.\n\nPlease note\, you do not need a ticket for this event\, just turn up\, bring friends\, bring family and come and worship our powerful\, living and loving God!
URL:https://lovedtoworship.co.uk/event/loved-to-worship-5th-december-2026-lighthouse-liverpool/
LOCATION:Liverpool Lighthouse\, Liverpool Lighthouse\, Oakfield Road\, Liverpool\, Merseyside\, L4 0UF\, United Kingdom
CATEGORIES:worship
ATTACH;FMTTYPE=image/jpeg:https://lovedtoworship.co.uk/wp-content/uploads/2025/07/IMG_4081.jpeg
ORGANIZER;CN="Dan Parr":MAILTO:nicki@jarvisclub.com
END:VEVENT
END:VCALENDAR